BEGIN:VCALENDAR
VERSION:2.0
PRODID:-//Crosspoint Clinical - ECPv6.15.20//NONSGML v1.0//EN
CALSCALE:GREGORIAN
METHOD:PUBLISH
X-WR-CALNAME:Crosspoint Clinical
X-ORIGINAL-URL:https://www.crosspointclinical.org
X-WR-CALDESC:Events for Crosspoint Clinical
REFRESH-INTERVAL;VALUE=DURATION:PT1H
X-Robots-Tag:noindex
X-PUBLISHED-TTL:PT1H
BEGIN:VTIMEZONE
TZID:UTC
BEGIN:STANDARD
TZOFFSETFROM:+0000
TZOFFSETTO:+0000
TZNAME:UTC
DTSTART:20220101T000000
END:STANDARD
END:VTIMEZONE
BEGIN:VEVENT
DTSTART;TZID=UTC:20230615T190000
DTEND;TZID=UTC:20230615T203000
DTSTAMP:20260422T082811
CREATED:20210104T180539Z
LAST-MODIFIED:20230313T145827Z
UID:218-1686855600-1686861000@www.crosspointclinical.org
SUMMARY:SYMBIS - Saving Your Marriage Before It Starts | Classes Begins 6/15/23 | FREE Blended Family Session
DESCRIPTION:Are You Preparing For Your Wedding or looking for an Ideal Wedding Gift for that Couple Heading Down the Aisle? \nDo you want the very best for your relationship?\nLet Us Prepare You for Your Marriage. \n“Saving Your Marriage Before It Starts”\nSYMBIS is an 8 week course that mentors you into the best relationship possible \nTHIS IS AN IDEAL WEDDING GIFT FOR ANY COUPLE ! \nThis is an online class on Zoom – a link will be sent to you after you register. \n*Please note – Registration closes June 8th to allow time for shipping of course materials. \nIn this course you will learn how to: \n\nLeverage your personality with your partner\nImprove your communication around difficult issues\nManage expectations and unspoken rules\nAsk the difficult questions – 7 questions every person should know answers to before they marry\n\nSYMBIS is: \n\nA step-by-step process for realizing instant results\nProven and reliable guidance you can count on\nEngaging exercises and numerous conversation starters\nAn upbeat and guilt-free tone for positive outcomes\nA customized road map to getting the love you want\nIn short\, enriching your relationship simply does not get better or easier than this.\n\nReceive your own personality assessment for better marriage (Included with this Course) \nThis program will be taught by CrossPoint Clinician and SYMBIS Certified Facilitator Rayanne Neveu\, LMFT
URL:https://www.crosspointclinical.org/event/saving-your-marriage-before-it-starts/2023-06-15/
LOCATION:online
ATTACH;FMTTYPE=image/jpeg:https://www.crosspointclinical.org/wp-content/uploads/2020/12/SYMBIS.jpg
END:VEVENT
END:VCALENDAR